BEGIN:VCALENDAR
VERSION:2.0
PRODID:-//hacksw/handcal//NONSGML v1.0//EN
BEGIN:VEVENT
UID:e3ede611432027e72814c5a542728e25
DTSTAMP:20260419T192510Z

DTSTART:20220916T000000
DTEND:20220919T235959
SUMMARY:Caribbean World Festival (Ft. DJ Jizza alongside V.A.)
DESCRIPTION:\nCARIBBEAN WORLD FEST\n\n\nCaribbean World Festival is an annual three-day music festival held in Albufeira, Portugal. Caribbean World Festival was established to bring out the best in the Caribbean Culture in one location with a programme that includes: night parties, pool party, boat party, some of the best local and international djs and artist, pre and after parties as well as an extra day for excursions. \n\n\nLOCATION\n\n\nAlbufeira is a coastal city in the southern Algarve region of Portugal. A major holiday destination, with sandy beaches and a busy nightlife strip.\n\n\nLINE UP\n\n\nThis will be the first staging of Caribbean World Fest and we'll be pulling out all the stop to bring you the best line up for 2022. \n

X-ALT-DESC;FMTTYPE=text/html:<!DOCTYPE HTML PUBLIC "-//W3C//DTD HTML 3.2//EN">\n<HTML>\n<HEAD>\n<META NAME="Generator" CONTENT="MS Exchange Server version 08.00.0681.000">\n<TITLE></TITLE>\n</HEAD>\n<BODY>\n<!-- Converted from text/rtf format -->\n\n<div id="comp-kq50l7sb" class="_2Hij5" data-testid="richTextElement"><br /><h3 class="font_5">CARIBBEAN WORLD FEST</h3><br /></div><br /><div id="comp-kq50m1yt" class="_2Hij5" data-testid="richTextElement"><br /><p class="font_8">Caribbean World Festival is an annual three-day music festival held in Albufeira, Portugal. Caribbean World Festival was established to bring out the best in the Caribbean Culture in one location with a programme that includes: night parties, pool party, boat party, some of the best local and international djs and artist, pre and after parties as well as an extra day for excursions. </p><br /></div><br /><div id="comp-kq50mh9k" class="_2Hij5" data-testid="richTextElement"><br /><h3 class="font_5">LOCATION</h3><br /></div><br /><div id="comp-kq50mh9l" class="_2Hij5" data-testid="richTextElement"><br /><p class="font_8">Albufeira is a coastal city in the southern Algarve region of Portugal. A major holiday destination, with sandy beaches and a busy nightlife strip.</p><br /></div><br /><div id="comp-kq50mlm3" class="_2Hij5" data-testid="richTextElement"><br /><h3 class="font_5">LINE UP</h3><br /></div><br /><div id="comp-kq50mlm4" class="_2Hij5" data-testid="richTextElement"><br /><p class="font_8">This will be the first staging of Caribbean World Fest and we'll be pulling out all the stop to bring you the best line up for 2022. </p><br /></div>\n\n</BODY>\n</HTML>

LOCATION:Avenida Doutor Francisco Sá Carneiro, Montechoro, Albufeira, Albufeira e Olhos de Água, Albufeira, Faro, 8200-260, Portugal
END:VEVENT

END:VCALENDAR
