BEGIN:VCALENDAR
VERSION:2.0
PRODID:-//hacksw/handcal//NONSGML v1.0//EN
BEGIN:VEVENT
UID:4a08bcd0b7d9ca880c4528b123d795a9
DTSTAMP:20260419T191811Z

DTSTART:20220903T230000
DTEND:20220904T050000
SUMMARY:Festa De 30+ "Noite Caboverdiana Live"
DESCRIPTION:ARTIESTEN:\nDon Kikas, Tabanka Djaz &amp; Jorge Neto Junior ( Tribute voor zijn vader )\n \nLIVE BAND:\nDjoy Delgado, Manu Soares, Toto Nascimento, Landy Neves, Ze Pinton, Jayfree Costa Dos Santos, Nils Fisher, Linete Lopes &amp; Marisa Barbosa Varela\n \nDJ:\nFantastic &amp; Tchida D'Sabura\n \nENTREE:\nEarly Bird Ticket €20,- ( UITVERKOCHT )\nCouple Ticket €50,- ( UITVERKOCHT )\nhttps://festade30plusliveedition.entranz.nl\nReguliere Tickets €30,-\n \nVVK ADRESSEN:\nROTTERDAM CENTRUM &amp; NOORD:\nJosscuts, Stokviswater 12\nAchter de ijssalon op de meent / 0102651558\n \nROTTERDAM WEST:\nBarbershop Tchida, Grote Visserijstraat 86 / 010-3141412 / 0623040177\nKapsalon Ana Paula, Middellandplein 28A / 010 477 4727\nKapsalon Dulce, Nieuwe Binnenweg 379 /\n0102447311\nOriginal Beautysalon, Kortebayonetstraat 70 / 010-2762540\nOliveira's ( Bar\Restaurante ), Pelgrimsstraat 11/ 010 737 0645\nROTTERDAM- ZUID:\nKapsalon Victória, Groene Hilledijk 247 / 0616 09 04 17\nVoor meer info: 0640219114.

X-ALT-DESC;FMTTYPE=text/html:<!DOCTYPE HTML PUBLIC "-//W3C//DTD HTML 3.2//EN">\n<HTML>\n<HEAD>\n<META NAME="Generator" CONTENT="MS Exchange Server version 08.00.0681.000">\n<TITLE></TITLE>\n</HEAD>\n<BODY>\n<!-- Converted from text/rtf format -->\n\n<div class="cxmmr5t8 oygrvhab hcukyx3x c1et5uql o9v6fnle"><strong>ARTIESTEN:</strong><br />Don Kikas, Tabanka Djaz &amp; Jorge Neto Junior ( Tribute voor zijn vader )</div><br /><div class="cxmmr5t8 oygrvhab hcukyx3x c1et5uql o9v6fnle"> </div><br /><div class="cxmmr5t8 oygrvhab hcukyx3x c1et5uql o9v6fnle"><strong>LIVE BAND:</strong><br />Djoy Delgado, Manu Soares, Toto Nascimento, Landy Neves, Ze Pinton, Jayfree Costa Dos Santos, Nils Fisher, Linete Lopes &amp; Marisa Barbosa Varela</div><br /><div class="cxmmr5t8 oygrvhab hcukyx3x c1et5uql o9v6fnle"> </div><br /><div class="cxmmr5t8 oygrvhab hcukyx3x c1et5uql o9v6fnle"><strong>DJ:</strong><br />Fantastic &amp; Tchida D'Sabura</div><br /><div class="cxmmr5t8 oygrvhab hcukyx3x c1et5uql o9v6fnle"> </div><br /><div class="cxmmr5t8 oygrvhab hcukyx3x c1et5uql o9v6fnle"><strong>ENTREE:</strong><br />Early Bird Ticket €20,- ( UITVERKOCHT )<br />Couple Ticket €50,- ( UITVERKOCHT )<br /><a class="oajrlxb2 g5ia77u1 qu0x051f esr5mh6w e9989ue4 r7d6kgcz rq0escxv nhd2j8a9 nc684nl6 p7hjln8o kvgmc6g5 cxmmr5t8 oygrvhab hcukyx3x jb3vyjys rz4wbd8a qt6c0cv9 a8nywdso i1ao9s8h esuyzwwr f1sip0of lzcic4wl gpro0wi8 py34i1dx" tabindex="0" href="https://l.facebook.com/l.php?u=https%3A%2F%2Ffestade30plusliveedition.entranz.nl%2F%3Ffbclid%3DIwAR2TGv1_BUmwcQ0g2sVcfSj_Rprut6ykMdnEKxDUzgnDsxjI-0LL4-D7nZY&amp;h=AT05ryZZn0c-IuQW8Pfvqp8AFcOgteW_FWxyPManc9G__JHL5lXu_yfcaqoOwZ5u9MB9jEJFZGAnhLRWaaerhN7_8CrtoSMnhuof-MSYacuXcTqVHmtP_w23CAqDC8hmg2H5AGTrGk6NhiNxa5o&amp;__tn__=q&amp;c[0]=AT1xfUZDUWfmYgZYaumTECYzFhH5eGq809ntwjaD_qznSORHp3C-qK9nMTjdzPzmaIEPCnTn3SXLi1n3VzQO4jsEogXbJaoCzRtvbh1K-KHoZ0cPSGX86BjzzeGnuc0XAOM" target="_blank" rel="nofollow noopener noreferrer">https://festade30plusliveedition.entranz.nl</a><br />Reguliere Tickets €30,-</div><br /><div class="cxmmr5t8 oygrvhab hcukyx3x c1et5uql o9v6fnle"> </div><br /><div class="cxmmr5t8 oygrvhab hcukyx3x c1et5uql o9v6fnle"><strong>VVK ADRESSEN:</strong></div><br /><div class="cxmmr5t8 oygrvhab hcukyx3x c1et5uql o9v6fnle">ROTTERDAM CENTRUM &amp; NOORD:<br />Josscuts, Stokviswater 12<br />Achter de ijssalon op de meent / 0102651558</div><br /><div class="cxmmr5t8 oygrvhab hcukyx3x c1et5uql o9v6fnle"> </div><br /><div class="cxmmr5t8 oygrvhab hcukyx3x c1et5uql o9v6fnle"><strong>ROTTERDAM WEST:</strong><br />Barbershop Tchida, Grote Visserijstraat 86 / 010-3141412 / 0623040177<br />Kapsalon Ana Paula, Middellandplein 28A / 010 477 4727<br />Kapsalon Dulce, Nieuwe Binnenweg 379 /<br />0102447311<br />Original Beautysalon, Kortebayonetstraat 70 / 010-2762540<br />Oliveira's ( Bar\Restaurante ), Pelgrimsstraat 11/ 010 737 0645</div><br /><div class="cxmmr5t8 oygrvhab hcukyx3x c1et5uql o9v6fnle">ROTTERDAM- ZUID:<br />Kapsalon Victória, Groene Hilledijk 247 / 0616 09 04 17<br />Voor meer info: 0640219114.</div>\n\n</BODY>\n</HTML>

LOCATION:Maashaven Zuidzijde 1-2, 3081 AE Rotterdam, Nederland
END:VEVENT

END:VCALENDAR
