BEGIN:VCALENDAR
VERSION:2.0
PRODID:-//hacksw/handcal//NONSGML v1.0//EN
BEGIN:VEVENT
UID:70341c9775c894acdb3dfe464efd1cc1
DTSTAMP:20260421T094050Z

DTSTART:20240531T100000
DTEND:20240602T230000
SUMMARY:New Skool Rules "International Music Conference & Festival"
DESCRIPTION:New Skool Rules is an international urban music festival and conference in Rotterdam. Join us on 3 days of seminars, concerts, an exchange programme, after-parties, speed-dating sessions and more! The goal of the festival is to connect urban music professionals from around the world and to offer opportunities for artists to grow their network and exchange ideas and artistic concepts.\nFor tickets and info visit the official website of the promoter.

X-ALT-DESC;FMTTYPE=text/html:<!DOCTYPE HTML PUBLIC "-//W3C//DTD HTML 3.2//EN">\n<HTML>\n<HEAD>\n<META NAME="Generator" CONTENT="MS Exchange Server version 08.00.0681.000">\n<TITLE></TITLE>\n</HEAD>\n<BODY>\n<!-- Converted from text/rtf format -->\n\n<p>New Skool Rules is an international urban music festival and conference in Rotterdam. Join us on 3 days of seminars, concerts, an exchange programme, after-parties, speed-dating sessions and more! The goal of the festival is to connect urban music professionals from around the world and to offer opportunities for artists to grow their network and exchange ideas and artistic concepts.</p><br /><p>For tickets and info visit the <a href="https://www.newskoolrules.com" data-rokbox="">official website</a> of the promoter.</p>\n\n</BODY>\n</HTML>

LOCATION:Boomgaardsstraat 71, 3012 XA Rotterdam, Nederland
END:VEVENT

END:VCALENDAR
