BEGIN:VCALENDAR
VERSION:2.0
PRODID:-//hacksw/handcal//NONSGML v1.0//EN
BEGIN:VEVENT
UID:3cab6b3e4132e9a9cc1d02279e1557c0
DTSTAMP:20260419T191756Z

DTSTART:20220729T190000
DTEND:20220729T190000
SUMMARY:Rotterdam Carnival Events: "EXTASEA"
DESCRIPTION:We’re getting ready to sail through the waters of Rotterdam on our annual zomercarnaval boat fete.\nFriday July 29 on Partyschip De Ameland\n19.00 - 23.00\nTickets on sale at www.socavsdancehall.nl or on\nrotterdamcarnivalevents.com\n#svdholland\n#extasea\n#rotterdamcarnivalevents

X-ALT-DESC;FMTTYPE=text/html:<!DOCTYPE HTML PUBLIC "-//W3C//DTD HTML 3.2//EN">\n<HTML>\n<HEAD>\n<META NAME="Generator" CONTENT="MS Exchange Server version 08.00.0681.000">\n<TITLE></TITLE>\n</HEAD>\n<BODY>\n<!-- Converted from text/rtf format -->\n\n<p>We’re getting ready to sail through the waters of Rotterdam on our annual zomercarnaval boat fete.<br />Friday July 29 on Partyschip De Ameland<br />19.00 - 23.00<br />Tickets on sale at <a class="oajrlxb2 g5ia77u1 qu0x051f esr5mh6w e9989ue4 r7d6kgcz rq0escxv nhd2j8a9 nc684nl6 p7hjln8o kvgmc6g5 cxmmr5t8 oygrvhab hcukyx3x jb3vyjys rz4wbd8a qt6c0cv9 a8nywdso i1ao9s8h esuyzwwr f1sip0of lzcic4wl gpro0wi8 py34i1dx" tabindex="0" href="http://www.socavsdancehall.nl/?fbclid=IwAR3pb3kuC8dHTmdqRJBom0hF7h1Xt8HjKKmHKB6Q3OV04G65LyS4lZn8R5Q" target="_blank" rel="nofollow noopener noreferrer">www.socavsdancehall.nl</a> or on<br /><a class="oajrlxb2 g5ia77u1 qu0x051f esr5mh6w e9989ue4 r7d6kgcz rq0escxv nhd2j8a9 nc684nl6 p7hjln8o kvgmc6g5 cxmmr5t8 oygrvhab hcukyx3x jb3vyjys rz4wbd8a qt6c0cv9 a8nywdso i1ao9s8h esuyzwwr f1sip0of lzcic4wl gpro0wi8 py34i1dx" tabindex="0" href="http://rotterdamcarnivalevents.com/?fbclid=IwAR0UVlIFFm_vL04Xi6oT7TYXw0E84_XehXV3OyEuwqNcEeeQaJmHDVzyljc" target="_blank" rel="nofollow noopener noreferrer">rotterdamcarnivalevents.com</a><br /><a class="oajrlxb2 g5ia77u1 qu0x051f esr5mh6w e9989ue4 r7d6kgcz rq0escxv nhd2j8a9 nc684nl6 p7hjln8o kvgmc6g5 cxmmr5t8 oygrvhab hcukyx3x jb3vyjys rz4wbd8a qt6c0cv9 a8nywdso i1ao9s8h esuyzwwr f1sip0of lzcic4wl gpro0wi8 oo9gr5id lrazzd5p" tabindex="0" href="https://www.facebook.com/hashtag/svdholland?__eep__=6&amp;__tn__=*NK*F">#svdholland</a><br /><a class="oajrlxb2 g5ia77u1 qu0x051f esr5mh6w e9989ue4 r7d6kgcz rq0escxv nhd2j8a9 nc684nl6 p7hjln8o kvgmc6g5 cxmmr5t8 oygrvhab hcukyx3x jb3vyjys rz4wbd8a qt6c0cv9 a8nywdso i1ao9s8h esuyzwwr f1sip0of lzcic4wl gpro0wi8 oo9gr5id lrazzd5p" tabindex="0" href="https://www.facebook.com/hashtag/extasea?__eep__=6&amp;__tn__=*NK*F">#extasea</a><br /><a class="oajrlxb2 g5ia77u1 qu0x051f esr5mh6w e9989ue4 r7d6kgcz rq0escxv nhd2j8a9 nc684nl6 p7hjln8o kvgmc6g5 cxmmr5t8 oygrvhab hcukyx3x jb3vyjys rz4wbd8a qt6c0cv9 a8nywdso i1ao9s8h esuyzwwr f1sip0of lzcic4wl gpro0wi8 oo9gr5id lrazzd5p" tabindex="0" href="https://www.facebook.com/hashtag/rotterdamcarnivalevents?__eep__=6&amp;__tn__=*NK*F">#rotterdamcarnivalevents</a></p>\n\n</BODY>\n</HTML>

LOCATION:Parkhaven 20, 3016 GM Rotterdam, Nederland
END:VEVENT

END:VCALENDAR
