BEGIN:VCALENDAR
VERSION:2.0
PRODID:-//hacksw/handcal//NONSGML v1.0//EN
BEGIN:VEVENT
UID:bf2f0c52c37d4e5d4d630f9d9a6d6d7e
DTSTAMP:20260419T192135Z

DTSTART:20230728T000000
DTEND:20230728T000000
SUMMARY:Rotterdam Unlimited "Battle Of Drums"
DESCRIPTION:For more info or tickets visit the official website of the promoter.

X-ALT-DESC;FMTTYPE=text/html:<!DOCTYPE HTML PUBLIC "-//W3C//DTD HTML 3.2//EN">\n<HTML>\n<HEAD>\n<META NAME="Generator" CONTENT="MS Exchange Server version 08.00.0681.000">\n<TITLE></TITLE>\n</HEAD>\n<BODY>\n<!-- Converted from text/rtf format -->\n\n<p>For more info or tickets visit the official website of the promoter.</p>\n\n</BODY>\n</HTML>

LOCATION:Rotterdam, Zuid-Holland, Nederland
END:VEVENT

END:VCALENDAR
