BEGIN:VCALENDAR
VERSION:2.0
PRODID:-//hacksw/handcal//NONSGML v1.0//EN
BEGIN:VEVENT
UID:d030d2fc95b7dc19db9404a025d7d99f
DTSTAMP:20260419T192036Z

DTSTART:20231208T110000
DTEND:20231208T110000
SUMMARY: Soca VS Dancehall XL "Glow in the dark edition"
DESCRIPTION:\nSOCA VS DANCEHALL "GLOW IN THE DARK EDITION"\nThe glow in the dark edition is one of SVD’s most popular editions. You won’t want to miss this one!\n \n▬▬▬▬▬ DATE ▬▬▬▬▬\nFridiay, December 8th\n \nMore info soon.\n

X-ALT-DESC;FMTTYPE=text/html:<!DOCTYPE HTML PUBLIC "-//W3C//DTD HTML 3.2//EN">\n<HTML>\n<HEAD>\n<META NAME="Generator" CONTENT="MS Exchange Server version 08.00.0681.000">\n<TITLE></TITLE>\n</HEAD>\n<BODY>\n<!-- Converted from text/rtf format -->\n\n<div class="m8h3af8h l7ghb35v kjdc1dyq kmwttqpk gh25dzvf"><br /><div class="xdj266r x11i5rnm xat24cr x1mh8g0r x1vvkbs">SOCA VS DANCEHALL "GLOW IN THE DARK EDITION"</div><br /><div class="x11i5rnm xat24cr x1mh8g0r x1vvkbs xtlvy1s">The glow in the dark edition is one of SVD’s most popular editions. You won’t want to miss this one!</div><br /><div class="x11i5rnm xat24cr x1mh8g0r x1vvkbs xtlvy1s"> </div><br /><div class="x11i5rnm xat24cr x1mh8g0r x1vvkbs xtlvy1s">▬▬▬▬▬ DATE ▬▬▬▬▬</div><br /><div class="x11i5rnm xat24cr x1mh8g0r x1vvkbs xtlvy1s">Fridiay, December 8th</div><br /><div class="x11i5rnm xat24cr x1mh8g0r x1vvkbs xtlvy1s"> </div><br /><div class="x11i5rnm xat24cr x1mh8g0r x1vvkbs xtlvy1s">More info soon.</div><br /></div>\n\n</BODY>\n</HTML>

LOCATION:Maashaven Zuidzijde 1-2, 3081 AE Rotterdam, Netherlands
END:VEVENT

END:VCALENDAR
