BEGIN:VCALENDAR
VERSION:2.0
PRODID:-//hacksw/handcal//NONSGML v1.0//EN
BEGIN:VEVENT
UID:2b00efbae1d94c167d1d8fc36ffc0241
DTSTAMP:20260419T191909Z

DTSTART:20220922T190000
DTEND:20220922T223000
SUMMARY:Wereldmuseum: "The World Is Yours"
DESCRIPTION:The world is yours!\nWereldwijd speelt hiphop een belangrijke rol in het leefbaarder maken van de stad voor lokale community's. Of het nu gaat om gedeelde herinneringen, kennis en ervaringen, uitingen als blockparty’s en graffiti-tags – hiphop is een belangrijk middel om plekken in de stad te (re)claimen en betekenis te geven.\n\nDe tentoonstelling The world is yours! biedt reflecties op hoe hiphop als cultuur en lifestyle bijdraagt aan de vorming van zulke betekenisvolle plekken in Rotterdam. Van de winkelstraat Kruiskade tot het Bospolderplein, van blockparty’s tot aan tramhaltes. In deze tentoonstelling delen Brand New Guys, Banlieue, Concrete Blossom en Notes hun visie op de rol van hiphop in de eigen stad.\n\nOpeningsavond\nOp donderdagavond 22 september kan je als een van de eersten de tentoonstelling te komen bezichtigen. Deze avond openen we ook onze andere museumzalen. Notes is verantwoordelijk voor de muzikale take-over.   \n\nBalzaal\n19.00 - 20.00      BRII\n20.00 - 21.30      Eileen\n21.30 – 22.30     Nala\n22.30 – 00.00     S!RENE\n00.00 – 01.00     Dave Nunes\n\nThe world is yours! (silent disco)\n20.00 – 21.00     Venteunas\n21.00 – 22.00     Jade Soul\n22.00 – 23.00     Kinnari\n\nHA!R POWER\n20.00 – 21.00 James\n21.00 – 22.30 Sensue\n\nKRUISPUNT\nN.t.b.\n\nVoor dit gratis openingsevent heb je geen ticket nodig; wél is er een maximum aantal bezoekers. Zorg dus dat je op tijd aanwezig bent!

X-ALT-DESC;FMTTYPE=text/html:<!DOCTYPE HTML PUBLIC "-//W3C//DTD HTML 3.2//EN">\n<HTML>\n<HEAD>\n<META NAME="Generator" CONTENT="MS Exchange Server version 08.00.0681.000">\n<TITLE></TITLE>\n</HEAD>\n<BODY>\n<!-- Converted from text/rtf format -->\n\n<p><strong>The world is yours!</strong><b><br /></b>Wereldwijd speelt hiphop een belangrijke rol in het leefbaarder maken van de stad voor lokale community's. Of het nu gaat om gedeelde herinneringen, kennis en ervaringen, uitingen als blockparty’s en graffiti-tags – hiphop is een belangrijk middel om plekken in de stad te (re)claimen en betekenis te geven.<br /><br />De tentoonstelling <em>The world is yours!</em> biedt reflecties op hoe hiphop als cultuur en lifestyle bijdraagt aan de vorming van zulke betekenisvolle plekken in Rotterdam. Van de winkelstraat Kruiskade tot het Bospolderplein, van blockparty’s tot aan tramhaltes. In deze tentoonstelling delen Brand New Guys, Banlieue, Concrete Blossom en Notes hun visie op de rol van hiphop in de eigen stad.<br /><br /><strong>Openingsavond</strong><b><br /></b>Op donderdagavond 22 september kan je als een van de eersten de tentoonstelling te komen bezichtigen. Deze avond openen we ook onze andere museumzalen. Notes is verantwoordelijk voor de muzikale take-over.   <br /><br /><strong>Balzaal</strong><br />19.00 - 20.00      BRII<br />20.00 - 21.30      Eileen<br />21.30 – 22.30     Nala<br />22.30 – 00.00     S!RENE<br />00.00 – 01.00     Dave Nunes<br /><br /><strong>The world is yours!</strong> (silent disco)<br />20.00 – 21.00     Venteunas<br />21.00 – 22.00     Jade Soul<br />22.00 – 23.00     Kinnari<br /><br /><strong>HA!R POWER</strong><b><br /></b>20.00 – 21.00 James<br />21.00 – 22.30 Sensue<br /><br /><strong>KRUISPUNT</strong><b><br /></b>N.t.b.<br /><br />Voor dit gratis openingsevent heb je geen ticket nodig; wél is er een maximum aantal bezoekers. Zorg dus dat je op tijd aanwezig bent!</p>\n\n</BODY>\n</HTML>

LOCATION:Willemskade 25, 3016 DM Rotterdam, Nederland
END:VEVENT

END:VCALENDAR
