BEGIN:VCALENDAR
VERSION:2.0
PRODID:-//hacksw/handcal//NONSGML v1.0//EN
BEGIN:VEVENT
UID:204313b83fa8cf4a6b8c1de1b061c852
DTSTAMP:20260421T093523Z

DTSTART:20230727T230000
DTEND:20230727T230000
SUMMARY:Shine: "All White Party"
DESCRIPTION:Thursday July 27 at Club Clare in Rotterdam.\nTickets will be online soon at\nwww.rotterdamcarnivalevents.com

X-ALT-DESC;FMTTYPE=text/html:<!DOCTYPE HTML PUBLIC "-//W3C//DTD HTML 3.2//EN">\n<HTML>\n<HEAD>\n<META NAME="Generator" CONTENT="MS Exchange Server version 08.00.0681.000">\n<TITLE></TITLE>\n</HEAD>\n<BODY>\n<!-- Converted from text/rtf format -->\n\n<div dir="auto">Thursday July 27 at Club Clare in Rotterdam.</div><br /><div dir="auto">Tickets will be online soon at</div><br /><div dir="auto"><a class="x1i10hfl xjbqb8w x6umtig x1b1mbwd xaqea5y xav7gou x9f619 x1ypdohk xt0psk2 xe8uvvx xdj266r x11i5rnm xat24cr x1mh8g0r xexx8yu x4uap5 x18d9i69 xkhd6sd x16tdsg8 x1hl2dhg xggy1nq x1a2a7pz xt0b8zv x1fey0fg" tabindex="0" href="http://www.rotterdamcarnivalevents.com/?fbclid=IwAR3rNvdhja1HP5THIQWOJw519tmHjkLaLoRzOl1oty-SOCQ6nskPu-6toPc" target="_blank" rel="nofollow noopener noreferrer">www.rotterdamcarnivalevents.com</a></div>\n\n</BODY>\n</HTML>

LOCATION:Coolsingel 18, 3011 AD Rotterdam, Netherlands
END:VEVENT

END:VCALENDAR
